BEGIN:VCALENDAR
VERSION:2.0
PRODID:-//Campbell Yoga - ECPv5.14.0.1//NONSGML v1.0//EN
CALSCALE:GREGORIAN
METHOD:PUBLISH
X-WR-CALNAME:Campbell Yoga
X-ORIGINAL-URL:https://campbellyoga.com
X-WR-CALDESC:Events for Campbell Yoga
BEGIN:VTIMEZONE
TZID:UTC
BEGIN:STANDARD
TZOFFSETFROM:+0000
TZOFFSETTO:+0000
TZNAME:UTC
DTSTART:20180101T000000
END:STANDARD
END:VTIMEZONE
BEGIN:VEVENT
DTSTART;TZID=UTC:20181201T170000
DTEND;TZID=UTC:20181201T183000
DTSTAMP:20260425T220805
CREATED:20181027T080720Z
LAST-MODIFIED:20181027T080750Z
UID:1906-1543683600-1543689000@campbellyoga.com
SUMMARY:Candlelight Gentle Flow & Yin to Benefit the Boys & Girls Club of Henderson County
DESCRIPTION:Candlelight Gentle Flow & Yin to Benefit the Boys & Girls Club of Henderson County\nDecember 1\, 5-6:30pm \nJoin Jennifer for this special Candlelight “Gentle Flow & Yin” by donation to benefit the Boys and Girls Club of Henderson County. \nThe first half of this 90 minute practice will flow gently through an intelligent sequence of poses meant to warm and soften your body in preparation for the second half of the class where we will dive in to deeply nourishing yin asana focused on releasing and relaxing the hips\, lower back and spine. Lights will be low\, candles will be lit and the room will be warm. Come practice presence during this often hectic time of year and benefit a wonderful organization in the process! \n\nFor the last 24 years\, the Boys & Girls Club of Henderson County has supported young people with caring adult mentors and life-changing programs that help kids:\n* Achieve in school and prepare for careers\n* Stay healthy and fit\n* Make positive personal decisions \nWe are so grateful for the work they do! \nRecommended Donation- $10-$20
URL:https://campbellyoga.com/event/candlelight-gentle-flow-yin-to-benefit-the-boys-girls-club-of-henderson-county/
LOCATION:Yoga and Massage (YAM) Hendersonville\, 410 S. King St\, Hendersonville\, NC\, 28792\, United States
CATEGORIES:Special Events
ATTACH;FMTTYPE=image/jpeg:https://campbellyoga.com/wp-content/uploads/2018/10/1192174-532770-34.jpg
END:VEVENT
END:VCALENDAR