BEGIN:VCALENDAR
VERSION:2.0
PRODID:-//Campbell Yoga - ECPv5.14.0.1//NONSGML v1.0//EN
CALSCALE:GREGORIAN
METHOD:PUBLISH
X-WR-CALNAME:Campbell Yoga
X-ORIGINAL-URL:https://campbellyoga.com
X-WR-CALDESC:Events for Campbell Yoga
BEGIN:VTIMEZONE
TZID:UTC
BEGIN:STANDARD
TZOFFSETFROM:+0000
TZOFFSETTO:+0000
TZNAME:UTC
DTSTART:20170101T000000
END:STANDARD
END:VTIMEZONE
BEGIN:VEVENT
DTSTART;TZID=UTC:20170219T173000
DTEND;TZID=UTC:20170326T190000
DTSTAMP:20260423T100336
CREATED:20170116T234236Z
LAST-MODIFIED:20170120T010033Z
UID:1414-1487525400-1490554800@campbellyoga.com
SUMMARY:Culinary Medicine Cabinet 101: a series to awaken your inner healer
DESCRIPTION:Culinary Medicine Cabinet 101: a 5 session series to awaken your inner healer\n\n\n \n\n\nDates: February 19\,26\, March 5\,12\,26\n\n\nTimes: 12:30-2:00pm\n\n\n \n\n\nSessions include:\n\n\n \n\n\nFebruary 19. ANCIENT WISDOM MODERN BALANCE: The science of life. Everyday Ayurveda\n\n\nFebruary 26. THE ART OF FERMENTATION 1: Cultured Vegetables and Home Brews (Kombucha and Ginger Bug) for a healthy gut microbiome \n\n\nMarch 5. THE ART OF FERMENTATION 2: kefir and sourdough for a healthy gut microbiome \n\n\nMarch 12. LIQUID GOLD AND HEALTHY FATS: Making Ghee as a physical and spiritual practice and understanding the need for healthy fats\n\n\nMarch 26. GO TO NOURISHMENT: Healing Broths and Kitchari  \n\n\n \n\n\nWhat you will take home:\n\n\n\nThe basic building blocks of keeping your kitchen stocked with healing\, nourishing foods to support physical\, mental and emotional wellbeing. \nIndividual jars of homemade cultured vegetables. \nSCOBYs for your own home brewed kombucha\nkefir starter\n Sourdough starter. \nJar of homemade ghee. \nPrivate facebook group to share successes\, comments and questions and a community of supportive\, like minded individuals to share your wellness journey with!\n\n\nAlso included: initial health consult with Jennifer\, 25% off private health coaching and yoga for the month of February and March. \n\nFor those of you who’ve worked with me before on cultured foods and ayurveda- fresh material and recipes provided! Come enjoy and expand your knowledge base!\n\n\n\nCost: Early Bird $180\, After February 1 $200\n\n\n \n\n\nEach session is between 1.5-2 hours in length. Tea will be provided.\n\n\n \n\n\nMeetings on Wednesday Nights at 5:30pm\n\n\nAddress given on registration\n\nLimited to 10 participants.
URL:https://campbellyoga.com/event/culinary-medicine-cabinet-101-a-series-to-awaken-your-inner-healer/
LOCATION:Flat Rock NC\, Hendersonville\, NC\, 28739\, United States
CATEGORIES:holistic health events,Special Events
END:VEVENT
END:VCALENDAR