BEGIN:VCALENDAR
VERSION:2.0
PRODID:-//Campbell Yoga - ECPv5.14.0.1//NONSGML v1.0//EN
CALSCALE:GREGORIAN
METHOD:PUBLISH
X-WR-CALNAME:Campbell Yoga
X-ORIGINAL-URL:https://campbellyoga.com
X-WR-CALDESC:Events for Campbell Yoga
BEGIN:VTIMEZONE
TZID:UTC
BEGIN:STANDARD
TZOFFSETFROM:+0000
TZOFFSETTO:+0000
TZNAME:UTC
DTSTART:20190101T000000
END:STANDARD
END:VTIMEZONE
BEGIN:VEVENT
DTSTART;TZID=UTC:20190316T080000
DTEND;TZID=UTC:20190323T170000
DTSTAMP:20260423T125826
CREATED:20180225T214401Z
LAST-MODIFIED:20181023T221403Z
UID:1632-1552723200-1553360400@campbellyoga.com
SUMMARY:Explore and Restore THAILAND : Yoga retreat
DESCRIPTION:March 16-23\, 2019 \nJoin Jennifer Campbell-Overbeeke to restore and recharge in Paradise. We will sleep to the rhythm of the ocean and awaken to the sweet sound of island birds. We will practice in the open air shala to the sound of the sound of the waves followed by dips in the ocean along a private beach. We will indulge in fresh island meals and take long lingering walks on the beach amidst rest and exploration of all this land has to offer. \nThe retreat will be held in a workshop style including two comprehensive yoga classes each day. In each session\, there will be ample space to explore. In the morning we will practice in a more invigorating hatha/yang style that balances breath led movement with an exploration of stillness. In the evening sessions will be catered to balance the energetic demands of the day and will include an intelligent and mindful blend of stimulating hatha and/or soothing restorative\, yin or yoga nidra. Pranayama\, meditation\, mantra and yogic philosophy will also be incorporated for a complete experience. \nIncluded in the retreat will be multiple a la carte dips into Thai culture and landscape. Examples include sacred temple tours\, waterfall and jungle hikes\, paddle boarding and treetop canopy adventures! Each student receives one hour long facial or massage in the on site spa (additional treatments available a la carte). \nDuring the retreat you will have plenty of time to enjoy the island and it’s surroundings. You will experience both the physical beauty of nature and the rich spiritual energy that is part of the Thai way of life. Come swim in crystal waters\, climb the highest peaks\, and stand amongst the beauty of the elements amongst the bounty and beauty of Thailand as you experience first-hand the transformative physical\, mental\, and spiritual effects of daily intelligent yoga practice. \nRegistration \nExplore & Restore in Thailand with Jennifer Campbell-Overbeeke \nApplications for payment plans are accepted. Details are determined on an individual basis. \nTo participate in the Thailand retreat please email: jennifer@campbellyoga.com \nTotal Program Cost: \nEarly Bird (Before October 15): Double room $1700 Single room $2400 \nFull price (After October 15): Double room $1900 Single room $2600 \nBook with a friend and save 5%! \nAll prices include a $600 non-refundable deposit required upon registration. Full tuition must be paid before the beginning of the program or specified early registration rate. \nIncluded in rate: \n\nluxury lodgings in Koh Samui island\, Thailand\ntwice daily yoga practice with a seasoned and skillful teacher\nhour long massage or facial\nairport pickup and drop off\ntwo gourmet meals a day plus snacks throughout the day\nprivate beach for relaxation and swim\nsupport of a growing community of big hearted and kind people!\n\nNot included: \n\nflights and travel to and from the island\na la carte adventures and excursions while in Thailand\nadditional spa treatments
URL:https://campbellyoga.com/event/explore-and-restore-thailand-yoga-retreat/
CATEGORIES:Retreats,Special Events
END:VEVENT
END:VCALENDAR