BEGIN:VCALENDAR
VERSION:2.0
PRODID:-//Campbell Yoga - ECPv5.14.0.1//NONSGML v1.0//EN
CALSCALE:GREGORIAN
METHOD:PUBLISH
X-WR-CALNAME:Campbell Yoga
X-ORIGINAL-URL:https://campbellyoga.com
X-WR-CALDESC:Events for Campbell Yoga
BEGIN:VTIMEZONE
TZID:America/New_York
BEGIN:DAYLIGHT
TZOFFSETFROM:-0500
TZOFFSETTO:-0400
TZNAME:EDT
DTSTART:20180311T070000
END:DAYLIGHT
BEGIN:STANDARD
TZOFFSETFROM:-0400
TZOFFSETTO:-0500
TZNAME:EST
DTSTART:20181104T060000
END:STANDARD
END:VTIMEZONE
BEGIN:VEVENT
DTSTART;TZID=America/New_York:20180804T143000
DTEND;TZID=America/New_York:20180908T154500
DTSTAMP:20260425T221127
CREATED:20180426T041430Z
LAST-MODIFIED:20180426T041430Z
UID:1670-1533393000-1536421500@campbellyoga.com
SUMMARY:Intro to Yoga Series\, Hendersonville NC
DESCRIPTION:New to yoga? Desiring a slower\, more detailed and interactive class structure? Look no further\, Intro to Yoga is for you!\nThis series will help you to embody the physical practice of yoga through discussion and practice of: \n– appropriate breathing\n– alignment and energetics of basic standing balances\, forward bends\, backbends\, hip mobilizers\, twists etc.\n– fundamentals of vinyasa (flow) or linking movement with breath\n– Centering and restorative tools for rest\, relaxation and self inquiry…and MORE \nJennifer will provide appropriate modifications for you and YOUR practice\, recognizing that every body is different (a beautiful thing!). \nOur intention is to build your confidence and awareness of the practice ofyoga\, so that by the time the series is over\, you feel comfortable and empowered to attend classes and to roll out your mat at home\, without feeling intimidated or lost. \nQuestions and dialogue are encouraged as we hope to foster a safe and supportive environment where we can all grow and learn together as a community! \nPrice $75 for 6 week series\nSaturdays 2:30-3:45pm
URL:https://campbellyoga.com/event/intro-to-yoga-series-hendersonville-nc-2/
LOCATION:Yoga and Massage (YAM) Hendersonville\, 410 S. King St\, Hendersonville\, NC\, 28792\, United States
CATEGORIES:Special Events,Workshops
ATTACH;FMTTYPE=image/png:https://campbellyoga.com/wp-content/uploads/2018/04/intro-to-yoga-banner-e1524698060897.png
END:VEVENT
END:VCALENDAR