BEGIN:VCALENDAR
VERSION:2.0
PRODID:-//Campbell Yoga - ECPv5.14.0.1//NONSGML v1.0//EN
CALSCALE:GREGORIAN
METHOD:PUBLISH
X-WR-CALNAME:Campbell Yoga
X-ORIGINAL-URL:https://campbellyoga.com
X-WR-CALDESC:Events for Campbell Yoga
BEGIN:VTIMEZONE
TZID:UTC
BEGIN:STANDARD
TZOFFSETFROM:+0000
TZOFFSETTO:+0000
TZNAME:UTC
DTSTART:20190101T000000
END:STANDARD
END:VTIMEZONE
BEGIN:VEVENT
DTSTART;TZID=UTC:20190101T090000
DTEND;TZID=UTC:20190101T110000
DTSTAMP:20260425T204851
CREATED:20181020T011734Z
LAST-MODIFIED:20181027T080858Z
UID:1809-1546333200-1546340400@campbellyoga.com
SUMMARY:New Year Yoga Mala @ YAM
DESCRIPTION:Join this beautiful ritual as a way to set your intentions for the 2016 year. This will be a led practice in a warm room. You may choose to do 108 sun salutes for the full Mala\, 54 sun salutes for a half Mala\, or to practice just as long as feels appropriate for your body\, resting when needed. This class is open to all levels and will hold a loving and supportive space to empower one another. Each sun salute will be a dedication\, a moving meditation to manifest transformation in the year to come…
URL:https://campbellyoga.com/event/new-year-yoga-mala-yam/
LOCATION:Yoga and Massage (YAM) Hendersonville\, 410 S. King St\, Hendersonville\, NC\, 28792\, United States
CATEGORIES:Special Events,Workshops
ATTACH;FMTTYPE=image/jpeg:https://campbellyoga.com/wp-content/uploads/2018/10/AF4A1246-e1540609732211.jpg
END:VEVENT
END:VCALENDAR