BEGIN:VCALENDAR
VERSION:2.0
PRODID:-//Campbell Yoga - ECPv5.14.0.1//NONSGML v1.0//EN
CALSCALE:GREGORIAN
METHOD:PUBLISH
X-WR-CALNAME:Campbell Yoga
X-ORIGINAL-URL:https://campbellyoga.com
X-WR-CALDESC:Events for Campbell Yoga
BEGIN:VTIMEZONE
TZID:America/Halifax
BEGIN:DAYLIGHT
TZOFFSETFROM:-0400
TZOFFSETTO:-0300
TZNAME:ADT
DTSTART:20150308T060000
END:DAYLIGHT
BEGIN:STANDARD
TZOFFSETFROM:-0300
TZOFFSETTO:-0400
TZNAME:AST
DTSTART:20151101T050000
END:STANDARD
END:VTIMEZONE
BEGIN:VEVENT
DTSTART;TZID=America/Halifax:20150726T140000
DTEND;TZID=America/Halifax:20150726T180000
DTSTAMP:20260425T165000
CREATED:20140717T034339Z
LAST-MODIFIED:20140717T034339Z
UID:291-1437919200-1437933600@campbellyoga.com
SUMMARY:Restorative & Therapeutic Primer (as part of the Republic of Yoga 200hr Teacher Training)
DESCRIPTION:Join me for 4 hours of Restorative and Yin Yoga as part of the 200 hour Advanced Teacher Training at Republic of Yoga in Cary\, NC! Learn Restorative and Yin Asana\, gentle assists and body propping\, Hands on Healing\, Guided Meditation and other techniques to create a canvas for restoration\, relaxation and healing in your yoga classes. This is a great tool for teachers who work with private clientele or special populations.
URL:https://campbellyoga.com/event/restorative-therapeutic-yoga-teacher-training-part-republic-yoga-300hr-teacher-training/
LOCATION:Republic of Yoga\, 202 Ledgestone Way\, Cary\, 27519\, United States
CATEGORIES:Special Events,Teacher Trainings
ATTACH;FMTTYPE=image/jpeg:https://campbellyoga.com/wp-content/uploads/2014/07/IMG_7756.jpg
END:VEVENT
END:VCALENDAR