BEGIN:VCALENDAR
VERSION:2.0
PRODID:-//Campbell Yoga - ECPv5.14.0.1//NONSGML v1.0//EN
CALSCALE:GREGORIAN
METHOD:PUBLISH
X-WR-CALNAME:Campbell Yoga
X-ORIGINAL-URL:https://campbellyoga.com
X-WR-CALDESC:Events for Campbell Yoga
BEGIN:VTIMEZONE
TZID:UTC
BEGIN:STANDARD
TZOFFSETFROM:+0000
TZOFFSETTO:+0000
TZNAME:UTC
DTSTART:20190101T000000
END:STANDARD
END:VTIMEZONE
BEGIN:VEVENT
DTSTART;TZID=UTC:20190222T180000
DTEND;TZID=UTC:20190223T153000
DTSTAMP:20260423T161058
CREATED:20181116T085410Z
LAST-MODIFIED:20181116T085425Z
UID:1962-1550858400-1550935800@campbellyoga.com
SUMMARY:Self Care Immersion: Techniques\, Application & Practice. Hendersonville NC
DESCRIPTION:Self Care “Bootcamp” (CEU available)\nRolling\, Respiration\, Restorative oh my!Join Jennifer for this three part weekend all dedicated to the art and practice of taking care of yourself. What would happen if we paid as much attention to being kind to our bodies\, hearts and minds as we do to “perfecting” them? There is so much benefit to the the ritual of simple practices done with intention. Self care does’t have to be complicated\, in fact it is better if it isn’t. In each session we will take ample time to workshop each technique\, discuss it’s benefits \, refine it to each and every individual and then sink in to the practice. You will leave renewed and re-invigorated with a jewel box of techniques ready to support you in a practical approach to self care! \nPart 1: ROLLING. FRIDAY 6-8PM \nIn this session we will work with self massage and myofascial rolling techniques and gentle focused movements to unwind tension in the tissues and bring awareness to areas of the body that don’t often get the care they need. \nPart 2: RESPIRATION. SATURDAY 10A-12P \nIn this session we will work with gentle breath guided movements and supported/propped pranayama (breathing practices) to calm the nervous system\, enhance circulation and bring clarity of mind. \nPart 3: RESTORATIVE. SATURDAY 1:30-3:30 \nIn this session we will work with specific restorative poses combined with breath work and meditation. Restorative yoga is often overlooked in our fast paced world but it is an extremely valuable skill. Even 5 minutes in a single restorative pose each day is an easy and delicious way to hit the reset button – physiologically\, mentally\, emotionally. Plus it just feels soooo wonderful to be supported! Come rest and digest like a pro! \n6 CEU hrs available for yoga teachers. You will learn specific propping techniques for restorative yoga\, pranayama\, and rolling techniques for myofascial release and more. \n$70 for all 3 sessions
URL:https://campbellyoga.com/event/self-care-immersion-techniques-application-practice/
LOCATION:Yoga and Massage (YAM) Hendersonville\, 410 S. King St\, Hendersonville\, NC\, 28792\, United States
CATEGORIES:Special Events,Workshops
ATTACH;FMTTYPE=image/jpeg:https://campbellyoga.com/wp-content/uploads/2018/11/AF4A4202-e1542340352983.jpg
END:VEVENT
END:VCALENDAR