BEGIN:VCALENDAR
VERSION:2.0
PRODID:-//Campbell Yoga - ECPv5.14.0.1//NONSGML v1.0//EN
CALSCALE:GREGORIAN
METHOD:PUBLISH
X-WR-CALNAME:Campbell Yoga
X-ORIGINAL-URL:https://campbellyoga.com
X-WR-CALDESC:Events for Campbell Yoga
BEGIN:VTIMEZONE
TZID:UTC
BEGIN:STANDARD
TZOFFSETFROM:+0000
TZOFFSETTO:+0000
TZNAME:UTC
DTSTART:20180101T000000
END:STANDARD
END:VTIMEZONE
BEGIN:VEVENT
DTSTART;VALUE=DATE:20180310
DTEND;VALUE=DATE:20180311
DTSTAMP:20260425T203007
CREATED:20180110T012405Z
LAST-MODIFIED:20180111T004413Z
UID:1605-1520640000-1520726399@campbellyoga.com
SUMMARY:Spring Clearing: A one day yoga "retreat” at Republic of Yoga
DESCRIPTION:A yoga retreat that doesn’t require travel or packing?! Yes please! \nJoin Jennifer Campbell-Overbeeke\, E-RYT500\, YACEP and creator of “Campbell Yoga Retreats” for a full day of rejuvenation and restoration on the cusp of the Spring transition! Come move winter out of your bones with a skillful blend of invigorating hatha yoga\, rejuvenating yin and restorative\, and peaceful yoga nidra. We will take time during the day for snacks\, tea and conversation as well so feel free to bring a treat. \nLeave your expectations at the door and allow yourself to settle into the care of a seasoned teacher  for a day of transformative uninterrupted practice\, community love and personal replenishment. All the best parts of a yoga retreat without the planning! \nWhat students can expect: \nAn intelligent blend of strong hatha\, yin and restorative asana to open the body\, alleviate strain and restore peace and clarity \nyoga nidra for deep rest and rejuvenation \nmantra and meditation to harness the transformative energy of the heart \nbring layers as the body temperature can drop during yoga nidra. \nand the care and support of a seasoned teacher \nSelf investment: $108 \n(register ahead of time as space is limited)
URL:https://campbellyoga.com/event/spring-clearing-a-one-day-yoga-retreat-at-republic-of-yoga/
CATEGORIES:Special Events,Workshops
ATTACH;FMTTYPE=image/jpeg:https://campbellyoga.com/wp-content/uploads/2015/09/IMG_7052.jpg
END:VEVENT
END:VCALENDAR