BEGIN:VCALENDAR
VERSION:2.0
PRODID:-//Campbell Yoga - ECPv5.14.0.1//NONSGML v1.0//EN
CALSCALE:GREGORIAN
METHOD:PUBLISH
X-WR-CALNAME:Campbell Yoga
X-ORIGINAL-URL:https://campbellyoga.com
X-WR-CALDESC:Events for Campbell Yoga
BEGIN:VTIMEZONE
TZID:America/Halifax
BEGIN:DAYLIGHT
TZOFFSETFROM:-0400
TZOFFSETTO:-0300
TZNAME:ADT
DTSTART:20150308T060000
END:DAYLIGHT
BEGIN:STANDARD
TZOFFSETFROM:-0300
TZOFFSETTO:-0400
TZNAME:AST
DTSTART:20151101T050000
END:STANDARD
END:VTIMEZONE
BEGIN:VEVENT
DTSTART;TZID=America/Halifax:20150304T190000
DTEND;TZID=America/Halifax:20150304T201500
DTSTAMP:20260423T141230
CREATED:20141021T231619Z
LAST-MODIFIED:20141021T231619Z
UID:562-1425495600-1425500100@campbellyoga.com
SUMMARY:SYNCYoga (Hatha/Vinyasa)
DESCRIPTION:Each SYNCYOGA class is carefully designed to work with a theme or towards a peak pose while incorporating the Surya Namaskara (Sun Salutations). Emphasis will be placed on safe alignment\, building strength and flexibility while linking movement to breath. This class is open to all levels\, but it is recommended that you have practiced yoga or taken a SYNCYOGA [The Basics] class prior to joining this class.
URL:https://campbellyoga.com/event/syncyoga-hathavinyasa-2015-03-04/
LOCATION:Sync Studio\, 6815 FAYETTEVILLE RD\, Durham\, NC\, 27713\, United States
CATEGORIES:Classes,Hatha classes
ATTACH;FMTTYPE=image/jpeg:https://campbellyoga.com/wp-content/uploads/2014/10/298443_269273766450800_503909635_n.jpg
END:VEVENT
END:VCALENDAR